BEGIN:VCALENDAR
VERSION:2.0
PRODID:-//wp-events-plugin.com//7.2.3.1//EN
TZID:Europe/Berlin
X-WR-TIMEZONE:Europe/Berlin
BEGIN:VEVENT
UID:30@tanzschulewaldkirch.de
DTSTART;TZID=Europe/Berlin:20260620T103000
DTEND;TZID=Europe/Berlin:20260620T133000
DTSTAMP:20260410T182541Z
URL:https://tanzschulewaldkirch.de/events/kids-und-jugend-tanzfestival/
SUMMARY:KIDS UND JUGEND 'TANZFESTIVAL'
DESCRIPTION:[cmsmasters_image align="center" link="https://tanzschulewaldki
 rch.de/wp-content/uploads/2026/04/2026_TSW_JugendTanzFestival-A3Plakat_Dru
 ck_01.pdf" animation_delay="0"]11265|https://tanzschulewaldkirch.de/wp-con
 tent/uploads/2026/04/2026_TSW_JugendTanzFestival-A3Plakat_Druck_01-pdf-213
 x300.jpg|medium[/cmsmasters_image]\n\nKIDS &amp\; TEENS CLASSIC\, ZUMBA\, 
 DANCE KIDS\, SPORTY DANCE KIDS &amp\; HIPHOP
ATTACH;FMTTYPE=image/jpeg:https://tanzschulewaldkirch.de/wp-content/upload
 s/2026/04/2026_TSW_JugendTanzFestival-A3Plakat_Druck_02-pdf.jpg
LOCATION:Tanzschule Waldkirch\, Kastelbergstraße 19A\, Waldkirch\, 79183\,
  Deutschland
X-APPLE-STRUCTURED-LOCATION;VALUE=URI;X-ADDRESS=Kastelbergstraße 19A\, Wal
 dkirch\, 79183\, Deutschland;X-APPLE-RADIUS=100;X-TITLE=Tanzschule Waldkir
 ch:geo:0,0
END:VEVENT
BEGIN:VTIMEZONE
TZID:Europe/Berlin
X-LIC-LOCATION:Europe/Berlin
BEGIN:DAYLIGHT
DTSTART:20260329T030000
TZOFFSETFROM:+0100
TZOFFSETTO:+0200
TZNAME:CEST
END:DAYLIGHT
END:VTIMEZONE
END:VCALENDAR