BEGIN:VCALENDAR
VERSION:2.0
PRODID:-//wp-events-plugin.com//7.2.3.1//EN
TZID:Europe/Berlin
X-WR-TIMEZONE:Europe/Berlin
BEGIN:VEVENT
UID:29@tanzschulewaldkirch.de
DTSTART;TZID=Europe/Berlin:20260421T183000
DTEND;TZID=Europe/Berlin:20260421T235900
DTSTAMP:20260410T182303Z
URL:https://tanzschulewaldkirch.de/events/ladies-night-alles-was-frauen-li
 eben/
SUMMARY:LADIES NIGHT 'Alles\, was Frauen lieben'
DESCRIPTION:[cmsmasters_gallery layout="slider" image_size_slider="medium" 
 slider_effect="slide" slider_autoplay="true" slider_slideshow_speed="3" sl
 ider_animation_speed="600" slider_rewind="true" slider_rewind_speed="1000"
  slider_nav_control="true" animation="bounceInLeft" animation_delay="0"]11
 260|https://tanzschulewaldkirch.de/wp-content/uploads/2026/04/LadiesNight2
 a-150x150.jpg\,11259|https://tanzschulewaldkirch.de/wp-content/uploads/202
 6/04/Ladies-Night2-150x150.jpg\,11258|https://tanzschulewaldkirch.de/wp-co
 ntent/uploads/2026/04/Ladies-Night-150x150.jpg\,11257|https://tanzschulewa
 ldkirch.de/wp-content/uploads/2026/04/Ladies-N-150x150.jpg[/cmsmasters_gal
 lery]\n\nBEGRÜSSUNGSSEKT * COCKTAILS * SNACKS * TANZSHOWS * ABEND- UND F
 RÜHLINGSMODE * VERLOSUNG * TANZPARTY\n\nVVK BEI DER TANZSCHULE WALDKIRCH
 \, MIMOZA FASHION (WALDKIRCH) &amp\; ABENDKASSE\n\nDIENSTAG 21. APRIL 2026
 \, EINLASS 18.30H – BEGINN 19.00H
ATTACH;FMTTYPE=image/jpeg:https://tanzschulewaldkirch.de/wp-content/upload
 s/2026/04/2026_TSW_ladiesnight-DINA3_001-3-pdf.jpg
LOCATION:Tanzschule Waldkirch\, Kastelbergstraße 19A\, Waldkirch\, 79183\,
  Deutschland
X-APPLE-STRUCTURED-LOCATION;VALUE=URI;X-ADDRESS=Kastelbergstraße 19A\, Wal
 dkirch\, 79183\, Deutschland;X-APPLE-RADIUS=100;X-TITLE=Tanzschule Waldkir
 ch:geo:0,0
END:VEVENT
BEGIN:VTIMEZONE
TZID:Europe/Berlin
X-LIC-LOCATION:Europe/Berlin
BEGIN:DAYLIGHT
DTSTART:20260329T030000
TZOFFSETFROM:+0100
TZOFFSETTO:+0200
TZNAME:CEST
END:DAYLIGHT
END:VTIMEZONE
END:VCALENDAR