BEGIN:VCALENDAR
VERSION:2.0
PRODID:-//wp-events-plugin.com//7.2.3.1//EN
TZID:Europe/Berlin
X-WR-TIMEZONE:Europe/Berlin
BEGIN:VEVENT
UID:32@tanzschulewaldkirch.de
DTSTART;TZID=Europe/Berlin:20260510T123000
DTEND;TZID=Europe/Berlin:20260510T140000
DTSTAMP:20260413T173926Z
URL:https://tanzschulewaldkirch.de/events/tanztreff-dance-practice-26/
SUMMARY:Tanztreff „dance & practice“
DESCRIPTION:Öffentliche Tanzmöglichkeit für alle Tanzlevel\, Standard/La
 tein mit Getränkebewirtung.
LOCATION:Tanzschule Waldkirch\, Kastelbergstraße 19A\, Waldkirch\, 79183\,
  Deutschland
X-APPLE-STRUCTURED-LOCATION;VALUE=URI;X-ADDRESS=Kastelbergstraße 19A\, Wal
 dkirch\, 79183\, Deutschland;X-APPLE-RADIUS=100;X-TITLE=Tanzschule Waldkir
 ch:geo:0,0
END:VEVENT
BEGIN:VTIMEZONE
TZID:Europe/Berlin
X-LIC-LOCATION:Europe/Berlin
BEGIN:DAYLIGHT
DTSTART:20260329T030000
TZOFFSETFROM:+0100
TZOFFSETTO:+0200
TZNAME:CEST
END:DAYLIGHT
END:VTIMEZONE
END:VCALENDAR